BEGIN:VCALENDAR
VERSION:2.0
PRODID:-//wp-events-plugin.com//7.2.3.1//EN
TZID:America/New_York
X-WR-TIMEZONE:America/New_York
BEGIN:VEVENT
UID:2583@fcsmaine.org
DTSTART;TZID=America/New_York:20251231T090000
DTEND;TZID=America/New_York:20260104T170000
DTSTAMP:20251229T161208Z
URL:https://fcsmaine.org/events/2025-26-new-year-schedule/
SUMMARY:2025-26 New Year Schedule
DESCRIPTION:Beginning Wednesday\, December 31 through Sunday\, January 4th\
 , the FCS Food Pantry and Thrift Shop will be closed for the New Year's ho
 liday (with the exception of FCS offices closing at noon on Wednesday\, De
 cember 31). We hope you have a Happy New Year!
ATTACH;FMTTYPE=image/jpeg:https://fcsmaine.org/wp-content/uploads/2025/12/
 New-Year-Closures-2025-UPDATED-Social-Post-Final-1.png
CATEGORIES:Holiday
LOCATION:Freeport Community Services\, 53 Depot St.\, Freeport\, ME\, 04032
 \, United States
X-APPLE-STRUCTURED-LOCATION;VALUE=URI;X-ADDRESS=53 Depot St.\, Freeport\, M
 E\, 04032\, United States;X-APPLE-RADIUS=100;X-TITLE=Freeport Community Se
 rvices:geo:0,0
END:VEVENT
BEGIN:VTIMEZONE
TZID:America/New_York
X-LIC-LOCATION:America/New_York
BEGIN:STANDARD
DTSTART:20251102T010000
TZOFFSETFROM:-0400
TZOFFSETTO:-0500
TZNAME:EST
END:STANDARD
END:VTIMEZONE
END:VCALENDAR