BEGIN:VCALENDAR
VERSION:2.0
PRODID:-//wp-events-plugin.com//7.2.3.1//EN
TZID:America/New_York
X-WR-TIMEZONE:America/New_York
BEGIN:VEVENT
UID:2582@fcsmaine.org
DTSTART;TZID=America/New_York:20251224T090000
DTEND;TZID=America/New_York:20251228T170000
DTSTAMP:20251217T163629Z
URL:https://fcsmaine.org/events/2025-holiday-schedule/
SUMMARY:2025 Holiday Schedule
DESCRIPTION:Beginning Wednesday\, December 24 through Sunday\, December 28t
 h\, the FCS Food Pantry and Thrift Shop will be closed for the holidays (w
 ith the exception of FCS offices closing at noon on Wednesday\, December 2
 4). We hope you enjoy the holiday season!
ATTACH;FMTTYPE=image/jpeg:https://fcsmaine.org/wp-content/uploads/2025/12/
 Holiday-Closures-2025-UPDATED-Social-Post-Final.png
CATEGORIES:Holiday
LOCATION:Freeport Community Services\, 53 Depot St.\, Freeport\, ME\, 04032
 \, United States
X-APPLE-STRUCTURED-LOCATION;VALUE=URI;X-ADDRESS=53 Depot St.\, Freeport\, M
 E\, 04032\, United States;X-APPLE-RADIUS=100;X-TITLE=Freeport Community Se
 rvices:geo:0,0
END:VEVENT
BEGIN:VTIMEZONE
TZID:America/New_York
X-LIC-LOCATION:America/New_York
BEGIN:STANDARD
DTSTART:20251102T010000
TZOFFSETFROM:-0400
TZOFFSETTO:-0500
TZNAME:EST
END:STANDARD
END:VTIMEZONE
END:VCALENDAR