BEGIN:VCALENDAR
VERSION:2.0
PRODID:-//wp-events-plugin.com//7.2.3.1//EN
TZID:America/New_York
X-WR-TIMEZONE:America/New_York
BEGIN:VEVENT
UID:1916@fcsmaine.org
DTSTART;TZID=America/New_York:20270112T130000
DTEND;TZID=America/New_York:20270112T140000
DTSTAMP:20251014T010421Z
URL:https://fcsmaine.org/events/affp-bingo-social-2027-01-12/
SUMMARY:AFFP Bingo Social
DESCRIPTION:AFFP Bingo Social Meets Monthly\n\n\n\n\n\n\n\nJoin our regular
  group of Bingo experts every month! The group meets on the second Tuesday
  of the month at 1pm in the Bradley Room.\n\nPlease check the calendar for
  any updates to the schedule.\n\n\n\n\n\n\n
ATTACH;FMTTYPE=image/jpeg:https://fcsmaine.org/wp-content/uploads/2025/07/
 Bingo-Social-Post-Updated-102025.png
CATEGORIES:Age-Friendly
LOCATION:Freeport Community Services\, 53 Depot St.\, Freeport\, ME\, 04032
 \, United States
X-APPLE-STRUCTURED-LOCATION;VALUE=URI;X-ADDRESS=53 Depot St.\, Freeport\, M
 E\, 04032\, United States;X-APPLE-RADIUS=100;X-TITLE=Freeport Community Se
 rvices:geo:0,0
END:VEVENT
BEGIN:VTIMEZONE
TZID:America/New_York
X-LIC-LOCATION:America/New_York
BEGIN:STANDARD
DTSTART:20261101T010000
TZOFFSETFROM:-0400
TZOFFSETTO:-0500
TZNAME:EST
END:STANDARD
END:VTIMEZONE
END:VCALENDAR