BEGIN:VCALENDAR
VERSION:2.0
PRODID:-//wp-events-plugin.com//7.2.3.1//EN
TZID:America/New_York
X-WR-TIMEZONE:America/New_York
BEGIN:VEVENT
UID:2623@fcsmaine.org
DTSTART;TZID=America/New_York:20281004T113000
DTEND;TZID=America/New_York:20281004T133000
DTSTAMP:20260228T034447Z
URL:https://fcsmaine.org/events/affp-tech-time-2026-03-04-2026-04-01-2026-
 05-06-2026-06-03-2026-07-01-2026-08-05-2026-09-02-2026-10-07-2026-11-04-20
 26-12-02-2027-01-06-2027-02-03-2027-03-03-2027-04-07-2027-05-05-2027-0-06-
 2028-10-04/
SUMMARY:AFFP Tech Time
DESCRIPTION:Get help with your tech. Andrew is on loan from Freeport Commun
 ity Library to help you find the answers you need! He can troubleshoot you
 r technology problems\, get you started with a research topic\, help you l
 ocate resources\, or try his best to answer just about any other question 
 you may have.\n\nBring any and all passwords you may need. If the question
  is device-specific\, bring that device (if mobile)! Note that we cannot f
 ix your electronics. If there is a line\, questions will be limited to 10 
 minutes per person\; you can sign up again and wait for another turn.\n\nQ
 uestions are open to everyone in attendance. This recurring event is free 
 and open to the public.\n\nNo registration is required\, just visit Andrew
  in the FCS lobby and be ready to learn! For questions\, reach out to the 
 library at 207-865-3307.
ATTACH;FMTTYPE=image/jpeg:https://fcsmaine.org/wp-content/uploads/2025/07/
 Feb-2026-Tech-Time-Real-Estate-Flyer-1.png
CATEGORIES:Age-Friendly
LOCATION:Freeport Community Services\, 53 Depot St.\, Freeport\, ME\, 04032
 \, United States
X-APPLE-STRUCTURED-LOCATION;VALUE=URI;X-ADDRESS=53 Depot St.\, Freeport\, M
 E\, 04032\, United States;X-APPLE-RADIUS=100;X-TITLE=Freeport Community Se
 rvices:geo:0,0
END:VEVENT
BEGIN:VTIMEZONE
TZID:America/New_York
X-LIC-LOCATION:America/New_York
BEGIN:DAYLIGHT
DTSTART:20280312T030000
TZOFFSETFROM:-0500
TZOFFSETTO:-0400
TZNAME:EDT
END:DAYLIGHT
END:VTIMEZONE
END:VCALENDAR