BEGIN:VCALENDAR
VERSION:2.0
PRODID:-//wp-events-plugin.com//7.2.3.1//EN
TZID:America/New_York
X-WR-TIMEZONE:America/New_York
BEGIN:VEVENT
UID:1957@fcsmaine.org
DTSTART;TZID=America/New_York:20260116T103000
DTEND;TZID=America/New_York:20260116T120000
DTSTAMP:20260108T185206Z
URL:https://fcsmaine.org/events/art-van-with-affp-2025-01-10-2025-02-14-20
 25-03-14-2025-04-11-2025-05-09-2025-06-13-2025-07-11-2025-08-08-2025-09-12
 -2025-10-10-2025-11-14-2025-12-12-2026-01-09/
SUMMARY:Art Van With AFFP
DESCRIPTION:Art Van Comes To FCS\n\n\n\n\n\n\n\nFCS is so excited to be par
 tnering with the Art Van! Due to the holidays and changes to the calendar 
 in January\, Age-Friendly Freeport &amp\; Pownal is hosting the Art Van on
  Friday\, January 16 and 30.\n\nJoin us in the FCS Lobby on January 16 to 
 make art and see what the Art Van has in store. Free and open to all!\n\n\
 n\n\n\n\n
ATTACH;FMTTYPE=image/jpeg:https://fcsmaine.org/wp-content/uploads/2025/07/
 Art-Van-Jan.-2026DateRoom-Changes-Socials-1.png
CATEGORIES:Age-Friendly
LOCATION:Freeport Community Services\, 53 Depot St.\, Freeport\, ME\, 04032
 \, United States
X-APPLE-STRUCTURED-LOCATION;VALUE=URI;X-ADDRESS=53 Depot St.\, Freeport\, M
 E\, 04032\, United States;X-APPLE-RADIUS=100;X-TITLE=Freeport Community Se
 rvices:geo:0,0
END:VEVENT
BEGIN:VTIMEZONE
TZID:America/New_York
X-LIC-LOCATION:America/New_York
BEGIN:STANDARD
DTSTART:20251102T010000
TZOFFSETFROM:-0400
TZOFFSETTO:-0500
TZNAME:EST
END:STANDARD
END:VTIMEZONE
END:VCALENDAR