BEGIN:VCALENDAR
VERSION:2.0
PRODID:-//wp-events-plugin.com//7.2.3.1//EN
TZID:America/New_York
X-WR-TIMEZONE:America/New_York
BEGIN:VEVENT
UID:2450@fcsmaine.org
DTSTART;TZID=America/New_York:20251212T103000
DTEND;TZID=America/New_York:20251212T120000
DTSTAMP:20251211T161435Z
URL:https://fcsmaine.org/events/art-van-with-affp-2025-12-12/
SUMMARY:ArtVan With Age-Friendly Freeport & Pownal
DESCRIPTION:ArtVan Comes To FCS\n\n\n\n\n\n\n\nFCS is so excited to be part
 nering with the ArtVan! Age-Friendly Freeport &amp\; Pownal is hosting the
  ArtVan every second and fourth Friday.\n\nJoin us in the lobby this week 
 to make art and see what the ArtVan has in store. Free and open to all!\n\
 n\n\n\n\n\n
ATTACH;FMTTYPE=image/jpeg:https://fcsmaine.org/wp-content/uploads/2025/07/
 Art-Van-FallWinter-2025-26Room-Change-Socials.png
CATEGORIES:Age-Friendly
LOCATION:Freeport Community Services\, 53 Depot St.\, Freeport\, ME\, 04032
 \, United States
X-APPLE-STRUCTURED-LOCATION;VALUE=URI;X-ADDRESS=53 Depot St.\, Freeport\, M
 E\, 04032\, United States;X-APPLE-RADIUS=100;X-TITLE=Freeport Community Se
 rvices:geo:0,0
END:VEVENT
BEGIN:VTIMEZONE
TZID:America/New_York
X-LIC-LOCATION:America/New_York
BEGIN:STANDARD
DTSTART:20251102T010000
TZOFFSETFROM:-0400
TZOFFSETTO:-0500
TZNAME:EST
END:STANDARD
END:VTIMEZONE
END:VCALENDAR