BEGIN:VCALENDAR
VERSION:2.0
PRODID:-//wp-events-plugin.com//7.2.3.1//EN
TZID:America/New_York
X-WR-TIMEZONE:America/New_York
BEGIN:VEVENT
UID:2508@fcsmaine.org
DTSTART;TZID=America/New_York:20250926T103000
DTEND;TZID=America/New_York:20250926T120000
DTSTAMP:20250923T185352Z
URL:https://fcsmaine.org/events/art-van-with-affp-4th-2025-09-26/
SUMMARY:Art Van With AFFP 4th
DESCRIPTION:Art Van Comes To FCS\n\n\n\n\n\n\n\nFCS is so excited to be par
 tnering with the Art Van! Age-Friendly Freeport &amp\; Pownal is hosting t
 he Art Van every second and fourth Friday. Note: We have an event on this 
 Friday happening in the Bradley Room\, so plan to be outside (weather perm
 itting). Free and open to all!\n\n\n\n\n\n\n
ATTACH;FMTTYPE=image/jpeg:https://fcsmaine.org/wp-content/uploads/2025/07/
 Art-Van-FallWinter-2025-26-Socials.png
CATEGORIES:Age-Friendly
LOCATION:Freeport Community Services\, 53 Depot St.\, Freeport\, ME\, 04032
 \, United States
X-APPLE-STRUCTURED-LOCATION;VALUE=URI;X-ADDRESS=53 Depot St.\, Freeport\, M
 E\, 04032\, United States;X-APPLE-RADIUS=100;X-TITLE=Freeport Community Se
 rvices:geo:0,0
END:VEVENT
BEGIN:VTIMEZONE
TZID:America/New_York
X-LIC-LOCATION:America/New_York
BEGIN:DAYLIGHT
DTSTART:20250309T030000
TZOFFSETFROM:-0500
TZOFFSETTO:-0400
TZNAME:EDT
END:DAYLIGHT
END:VTIMEZONE
END:VCALENDAR