BEGIN:VCALENDAR
VERSION:2.0
PRODID:-//wp-events-plugin.com//7.2.3.1//EN
TZID:America/New_York
X-WR-TIMEZONE:America/New_York
BEGIN:VEVENT
UID:2512@fcsmaine.org
DTSTART;TZID=America/New_York:20260130T103000
DTEND;TZID=America/New_York:20260130T120000
DTSTAMP:20260108T190016Z
URL:https://fcsmaine.org/events/art-van-with-affp-4th-2026-01-23/
SUMMARY:Art Van With AFFP 4th
DESCRIPTION:Art Van Comes To FCS\n\n\n\n\n\n\n\nFCS is so excited to be par
 tnering with the Art Van! Due to the holidays and changes to the calendar 
 in January\, Age-Friendly Freeport &amp\; Pownal is hosting the Art Van on
  Friday\, January 30.\n\nJoin us in the Bradley Room to make art and see w
 hat the Art Van has in store. Free and open to all!\n\n\n\n\n\n\n
ATTACH;FMTTYPE=image/jpeg:https://fcsmaine.org/wp-content/uploads/2025/07/
 Art-Van-Jan.-2026DateRoom-Changes-Socials-1.png
CATEGORIES:Age-Friendly
LOCATION:Freeport Community Services\, 53 Depot St.\, Freeport\, ME\, 04032
 \, United States
X-APPLE-STRUCTURED-LOCATION;VALUE=URI;X-ADDRESS=53 Depot St.\, Freeport\, M
 E\, 04032\, United States;X-APPLE-RADIUS=100;X-TITLE=Freeport Community Se
 rvices:geo:0,0
END:VEVENT
BEGIN:VTIMEZONE
TZID:America/New_York
X-LIC-LOCATION:America/New_York
BEGIN:STANDARD
DTSTART:20251102T010000
TZOFFSETFROM:-0400
TZOFFSETTO:-0500
TZNAME:EST
END:STANDARD
END:VTIMEZONE
END:VCALENDAR