BEGIN:VCALENDAR
VERSION:2.0
PRODID:-//wp-events-plugin.com//7.2.3.1//EN
TZID:America/New_York
X-WR-TIMEZONE:America/New_York
BEGIN:VEVENT
UID:2572@fcsmaine.org
DTSTART;TZID=America/New_York:20251203T140000
DTEND;TZID=America/New_York:20251203T150000
DTSTAMP:20251118T181012Z
URL:https://fcsmaine.org/events/balance-class-series-2025-11-20/
SUMMARY:Balance Class Series
DESCRIPTION:This 4-class series is led by Noreen Delorey\, PT from Maine S
 trong Balance Centers. The class includes evidence-based education and b
 alance exercise. Learn about the anatomy and physiology of balance\, perso
 nal and environmental factors that lead to falls\, and how to use exercise
  to reduce risk. Please bring a water bottle\, sneakers\, and your enthusi
 asm!\n\nClasses begin Thursday\, October 30\, and will until Wednesday\, D
 ecember 3 (rescheduled from Nov. 20) from 2-3 p.m. in the Bradley Room at 
 FCS. Please note: To ensure safety\, this class is designated for those w
 ho consistently walk WITHOUT an assistive device (i.e. walker or cane) and
  have NOT fallen in the past 6 months.\n\nFor questions\, please call or 
 email Marie at Age-Friendly Maine at (207) 865-3985 x 222. Registration f
 or this class is now closed.
ATTACH;FMTTYPE=image/jpeg:https://fcsmaine.org/wp-content/uploads/2025/10/
 balance-flyer2025.png
CATEGORIES:Age-Friendly
LOCATION:Freeport Community Services\, The Bradley Room\, 53 Depot St.\, Fr
 eeport\, ME\, 04032\, United States
X-APPLE-STRUCTURED-LOCATION;VALUE=URI;X-ADDRESS=53 Depot St.\, Freeport\, M
 E\, 04032\, United States;X-APPLE-RADIUS=100;X-TITLE=Freeport Community Se
 rvices\, The Bradley Room:geo:0,0
END:VEVENT
BEGIN:VTIMEZONE
TZID:America/New_York
X-LIC-LOCATION:America/New_York
BEGIN:STANDARD
DTSTART:20251102T010000
TZOFFSETFROM:-0400
TZOFFSETTO:-0500
TZNAME:EST
END:STANDARD
END:VTIMEZONE
END:VCALENDAR