BEGIN:VCALENDAR
VERSION:2.0
PRODID:-//wp-events-plugin.com//7.2.3.1//EN
TZID:America/New_York
X-WR-TIMEZONE:America/New_York
BEGIN:VEVENT
UID:2560@fcsmaine.org
DTSTART;TZID=America/New_York:20250923T130000
DTEND;TZID=America/New_York:20250923T140000
DTSTAMP:20250918T145133Z
URL:https://fcsmaine.org/events/cider-donuts-fall-social/
SUMMARY:Cider + Donuts Fall Social
DESCRIPTION:Join us as we celebrate the fall season! Connect with community
  while enjoying apple cider and donuts from Thompson’s Orchard. 1:00 p.
 m. in the Bradley Room. All are welcome.
ATTACH;FMTTYPE=image/jpeg:https://fcsmaine.org/wp-content/uploads/2025/09/
 Cider-Donuts-September-Social-Post-for-Socials.png
CATEGORIES:Age-Friendly
LOCATION:Freeport Community Services\, The Bradley Room\, 53 Depot St.\, Fr
 eeport\, ME\, 04032\, United States
X-APPLE-STRUCTURED-LOCATION;VALUE=URI;X-ADDRESS=53 Depot St.\, Freeport\, M
 E\, 04032\, United States;X-APPLE-RADIUS=100;X-TITLE=Freeport Community Se
 rvices\, The Bradley Room:geo:0,0
END:VEVENT
BEGIN:VTIMEZONE
TZID:America/New_York
X-LIC-LOCATION:America/New_York
BEGIN:DAYLIGHT
DTSTART:20250309T030000
TZOFFSETFROM:-0500
TZOFFSETTO:-0400
TZNAME:EDT
END:DAYLIGHT
END:VTIMEZONE
END:VCALENDAR