BEGIN:VCALENDAR
VERSION:2.0
PRODID:-//wp-events-plugin.com//7.2.3.1//EN
TZID:America/New_York
X-WR-TIMEZONE:America/New_York
BEGIN:VEVENT
UID:2578@fcsmaine.org
DTSTART;TZID=America/New_York:20251127T110000
DTEND;TZID=America/New_York:20251127T140000
DTSTAMP:20251110T152306Z
URL:https://fcsmaine.org/events/community-thanksgiving-day-feast/
SUMMARY:Community Thanksgiving Day Feast
DESCRIPTION:It’s the most wonderful time of the year! Join FCS for a grea
 t big Thanksgiving Day Feast\, connect with community and celebrate the ho
 liday together. We can’t wait to see you at the table! 11-2 p.m. in the 
 Bradley Room.\n\nPS: Can’t make the feast? Sign up for a Food Box and we
  will deliver dinner to your home. Visit here for details.
ATTACH;FMTTYPE=image/jpeg:https://fcsmaine.org/wp-content/uploads/2025/11/
 Thanksgiving-Meal-2025-NOV-27.png
CATEGORIES:Community Events
LOCATION:Freeport Community Services\, The Bradley Room\, 53 Depot St.\, Fr
 eeport\, ME\, 04032\, United States
X-APPLE-STRUCTURED-LOCATION;VALUE=URI;X-ADDRESS=53 Depot St.\, Freeport\, M
 E\, 04032\, United States;X-APPLE-RADIUS=100;X-TITLE=Freeport Community Se
 rvices\, The Bradley Room:geo:0,0
END:VEVENT
BEGIN:VTIMEZONE
TZID:America/New_York
X-LIC-LOCATION:America/New_York
BEGIN:STANDARD
DTSTART:20251102T010000
TZOFFSETFROM:-0400
TZOFFSETTO:-0500
TZNAME:EST
END:STANDARD
END:VTIMEZONE
END:VCALENDAR