BEGIN:VCALENDAR
VERSION:2.0
PRODID:-//wp-events-plugin.com//7.2.3.1//EN
TZID:America/New_York
X-WR-TIMEZONE:America/New_York
BEGIN:VEVENT
UID:2887@fcsmaine.org
DTSTART;TZID=America/New_York:20260323T120000
DTEND;TZID=America/New_York:20260323T130000
DTSTAMP:20260317T151320Z
URL:https://fcsmaine.org/events/creating-an-energy-efficient-home-lunch-le
 arn/
SUMMARY:Creating an Energy Efficient Home Lunch & Learn
DESCRIPTION:Passivhaus Maine will be in the Bradley Room to share tips on h
 ow you can save time and money at home by making a few simple\, energy eff
 icient changes. To secure your spot and your meal\, please be sure to regi
 ster below.\n\n[Form id="23"]\n\n&nbsp\;
ATTACH;FMTTYPE=image/jpeg:https://fcsmaine.org/wp-content/uploads/2026/03/
 Lunch-Learn-with-Passivhaus-March-23.png
CATEGORIES:Age-Friendly
LOCATION:Freeport Community Services\, The Bradley Room\, 53 Depot St.\, Fr
 eeport\, ME\, 04032\, United States
X-APPLE-STRUCTURED-LOCATION;VALUE=URI;X-ADDRESS=53 Depot St.\, Freeport\, M
 E\, 04032\, United States;X-APPLE-RADIUS=100;X-TITLE=Freeport Community Se
 rvices\, The Bradley Room:geo:0,0
END:VEVENT
BEGIN:VTIMEZONE
TZID:America/New_York
X-LIC-LOCATION:America/New_York
BEGIN:DAYLIGHT
DTSTART:20260308T030000
TZOFFSETFROM:-0500
TZOFFSETTO:-0400
TZNAME:EDT
END:DAYLIGHT
END:VTIMEZONE
END:VCALENDAR