BEGIN:VCALENDAR
VERSION:2.0
PRODID:-//wp-events-plugin.com//7.2.3.1//EN
TZID:America/New_York
X-WR-TIMEZONE:America/New_York
BEGIN:VEVENT
UID:2629@fcsmaine.org
DTSTART;TZID=America/New_York:20260318T180000
DTEND;TZID=America/New_York:20260318T190000
DTSTAMP:20260305T184458Z
URL:https://fcsmaine.org/events/creative-conversation-with-artist-charlie-
 hewitt/
SUMMARY:Creative Conversation with Artist Charlie Hewitt
DESCRIPTION:FCS and Meetinghouse Arts are proud to present a Q+A with Charl
 ie Hewitt\, the artist behind the beloved Hopeful Project. His lighted\, c
 olorful sculptures provide a beacon of hope in communities around the coun
 try. The original Hopeful sign can be viewed at Speedwell Projects in Port
 land\, Maine\, and in 2021\, his Hopeful installation appeared at the Pres
 idential inauguration. In addition to his Hopeful Project\, Hewitt has pr
 acticed painting\, printmaking and sculpting for over 50 years in Maine an
 d New York City.\n\nThe conversation with Hewitt will be moderated by Debo
 rah McLean of the Lemont Block Artist Collective in Brunswick. The two wil
 l discuss his history as an artist\, the meaning behind the Hopeful signs\
 , and how the project supports community. Time will be provided for audie
 nce Q+A.\n\nAll are welcome to this free event. We’ll meet in the Bradle
 y Room at FCS on March 18 at 6 p.m. To learn more about Charlie Hewitt\, v
 isit here.\n\n&nbsp\;
ATTACH;FMTTYPE=image/jpeg:https://fcsmaine.org/wp-content/uploads/2026/03/
 Charlie-Hewitt-Event-Flyer-2026-Social-Post.png
CATEGORIES:Community Events
LOCATION:Freeport Community Services\, The Bradley Room\, 53 Depot St.\, Fr
 eeport\, ME\, 04032\, United States
X-APPLE-STRUCTURED-LOCATION;VALUE=URI;X-ADDRESS=53 Depot St.\, Freeport\, M
 E\, 04032\, United States;X-APPLE-RADIUS=100;X-TITLE=Freeport Community Se
 rvices\, The Bradley Room:geo:0,0
END:VEVENT
BEGIN:VTIMEZONE
TZID:America/New_York
X-LIC-LOCATION:America/New_York
BEGIN:DAYLIGHT
DTSTART:20260308T030000
TZOFFSETFROM:-0500
TZOFFSETTO:-0400
TZNAME:EDT
END:DAYLIGHT
END:VTIMEZONE
END:VCALENDAR