BEGIN:VCALENDAR
VERSION:2.0
PRODID:-//wp-events-plugin.com//7.2.3.1//EN
TZID:America/New_York
X-WR-TIMEZONE:America/New_York
BEGIN:VEVENT
UID:2585@fcsmaine.org
DTSTART;TZID=America/New_York:20260128T180000
DTEND;TZID=America/New_York:20260128T190000
DTSTAMP:20260113T153810Z
URL:https://fcsmaine.org/events/emergency-preparedness-neighborhood-hubs/
SUMMARY:Emergency Preparedness: Neighborhood HUBS
DESCRIPTION:Join Freeport Climate Action Now\, FCS\, Cumberland County Em
 ergency Management\, Freeport Fire Dept. and Freeport PD to learn more a
 bout what to do in case of weather emergencies and how we can best prepare
  and help support one other. Questions are encouraged. Free pizza will be 
 available from our neighbors at Maine Beer Co.\n\nSee you on Wednesday\, J
 anuary 28 at 6 p.m. in the Bradley Room!
ATTACH;FMTTYPE=image/jpeg:https://fcsmaine.org/wp-content/uploads/2026/01/
 Version2-Wed.Jan-282026EmerPrepNeighHubFINAL-FLYER.docx-1-pdf.jpg
CATEGORIES:Age-Friendly
LOCATION:Freeport Community Services\, The Bradley Room\, 53 Depot St.\, Fr
 eeport\, ME\, 04032\, United States
X-APPLE-STRUCTURED-LOCATION;VALUE=URI;X-ADDRESS=53 Depot St.\, Freeport\, M
 E\, 04032\, United States;X-APPLE-RADIUS=100;X-TITLE=Freeport Community Se
 rvices\, The Bradley Room:geo:0,0
END:VEVENT
BEGIN:VTIMEZONE
TZID:America/New_York
X-LIC-LOCATION:America/New_York
BEGIN:STANDARD
DTSTART:20251102T010000
TZOFFSETFROM:-0400
TZOFFSETTO:-0500
TZNAME:EST
END:STANDARD
END:VTIMEZONE
END:VCALENDAR