BEGIN:VCALENDAR
VERSION:2.0
PRODID:-//wp-events-plugin.com//7.2.3.1//EN
TZID:America/New_York
X-WR-TIMEZONE:America/New_York
BEGIN:VEVENT
UID:2587@fcsmaine.org
DTSTART;TZID=America/New_York:20260119T090000
DTEND;TZID=America/New_York:20260119T170000
DTSTAMP:20260113T194654Z
URL:https://fcsmaine.org/events/fcs-closed-mlk-day/
SUMMARY:FCS Closed MLK Day
DESCRIPTION:In recognition of Martin Luther King Jr. Day\, FCS offices\, Fo
 od Pantry and Thrift Shop will be closed. All programs will also be cancel
 led.
ATTACH;FMTTYPE=image/jpeg:https://fcsmaine.org/wp-content/uploads/2026/01/
 Martin-Luther-King-Day-Flyer-2026.png
CATEGORIES:Holiday
LOCATION:Freeport Community Services\, 53 Depot St.\, Freeport\, ME\, 04032
 \, United States
X-APPLE-STRUCTURED-LOCATION;VALUE=URI;X-ADDRESS=53 Depot St.\, Freeport\, M
 E\, 04032\, United States;X-APPLE-RADIUS=100;X-TITLE=Freeport Community Se
 rvices:geo:0,0
END:VEVENT
BEGIN:VTIMEZONE
TZID:America/New_York
X-LIC-LOCATION:America/New_York
BEGIN:STANDARD
DTSTART:20251102T010000
TZOFFSETFROM:-0400
TZOFFSETTO:-0500
TZNAME:EST
END:STANDARD
END:VTIMEZONE
END:VCALENDAR