BEGIN:VCALENDAR
VERSION:2.0
PRODID:-//wp-events-plugin.com//7.2.3.1//EN
TZID:America/New_York
X-WR-TIMEZONE:America/New_York
BEGIN:VEVENT
UID:2577@fcsmaine.org
DTSTART;TZID=America/New_York:20251031T113000
DTEND;TZID=America/New_York:20251031T170000
DTSTAMP:20251029T185806Z
URL:https://fcsmaine.org/events/fcs-offices-thrift-shop-closed-for-staff-r
 etreat/
SUMMARY:FCS Offices & Thrift Shop Closed for Staff Retreat
DESCRIPTION:
ATTACH;FMTTYPE=image/jpeg:https://fcsmaine.org/wp-content/uploads/2025/10/
 FCS-Staff-Retreat-Flyer-102025.png
CATEGORIES:FCS Event
LOCATION:Freeport Community Services\, 53 Depot St.\, Freeport\, ME\, 04032
 \, United States
X-APPLE-STRUCTURED-LOCATION;VALUE=URI;X-ADDRESS=53 Depot St.\, Freeport\, M
 E\, 04032\, United States;X-APPLE-RADIUS=100;X-TITLE=Freeport Community Se
 rvices:geo:0,0
END:VEVENT
BEGIN:VTIMEZONE
TZID:America/New_York
X-LIC-LOCATION:America/New_York
BEGIN:DAYLIGHT
DTSTART:20250309T030000
TZOFFSETFROM:-0500
TZOFFSETTO:-0400
TZNAME:EDT
END:DAYLIGHT
END:VTIMEZONE
END:VCALENDAR