BEGIN:VCALENDAR
VERSION:2.0
PRODID:-//wp-events-plugin.com//7.2.3.1//EN
TZID:America/New_York
X-WR-TIMEZONE:America/New_York
BEGIN:VEVENT
UID:1393@fcsmaine.org
DTSTART;TZID=America/New_York:20250616T110000
DTEND;TZID=America/New_York:20250616T150000
DTSTAMP:20250725T152516Z
URL:https://fcsmaine.org/events/food-pantry-mon-2025-01-06-2025-01-13-2025
 -01-20-2025-01-27-2025-02-03-2025-02-10-2025-02-17-2025-02-24-2025-03-03-2
 025-03-10-2025-03-17-2025-03-24-2025-03-31-2025-04-07-2025-04-14-2025-09-2
 025-06-16/
SUMMARY:Food Pantry Mon.
DESCRIPTION:The FCS Food Pantry provides food to residents in need from Fre
 eport and Pownal\, Maine.
ATTACH;FMTTYPE=image/jpeg:https://fcsmaine.org/wp-content/uploads/2020/05/
 Food-Pantry-veggies.jpg
CATEGORIES:Food Pantry
LOCATION:Freeport Community Services\, The Bradley Room\, 53 Depot St.\, Fr
 eeport\, ME\, 04032\, United States
X-APPLE-STRUCTURED-LOCATION;VALUE=URI;X-ADDRESS=53 Depot St.\, Freeport\, M
 E\, 04032\, United States;X-APPLE-RADIUS=100;X-TITLE=Freeport Community Se
 rvices\, The Bradley Room:geo:0,0
END:VEVENT
BEGIN:VTIMEZONE
TZID:America/New_York
X-LIC-LOCATION:America/New_York
BEGIN:DAYLIGHT
DTSTART:20250309T030000
TZOFFSETFROM:-0500
TZOFFSETTO:-0400
TZNAME:EDT
END:DAYLIGHT
END:VTIMEZONE
END:VCALENDAR