BEGIN:VCALENDAR
VERSION:2.0
PRODID:-//wp-events-plugin.com//7.2.3.1//EN
TZID:America/New_York
X-WR-TIMEZONE:America/New_York
BEGIN:VEVENT
UID:1371@fcsmaine.org
DTSTART;TZID=America/New_York:20250113T110000
DTEND;TZID=America/New_York:20250113T150000
DTSTAMP:20250725T152516Z
URL:https://fcsmaine.org/events/food-pantry-mon-2025-01-06-2025-01-13/
SUMMARY:Food Pantry Mon.
DESCRIPTION:The FCS Food Pantry provides food to residents in need from Fre
 eport and Pownal\, Maine.
ATTACH;FMTTYPE=image/jpeg:https://fcsmaine.org/wp-content/uploads/2020/05/
 Food-Pantry-veggies.jpg
CATEGORIES:Food Pantry
LOCATION:Freeport Community Services\, The Bradley Room\, 53 Depot St.\, Fr
 eeport\, ME\, 04032\, United States
X-APPLE-STRUCTURED-LOCATION;VALUE=URI;X-ADDRESS=53 Depot St.\, Freeport\, M
 E\, 04032\, United States;X-APPLE-RADIUS=100;X-TITLE=Freeport Community Se
 rvices\, The Bradley Room:geo:0,0
END:VEVENT
BEGIN:VTIMEZONE
TZID:America/New_York
X-LIC-LOCATION:America/New_York
BEGIN:STANDARD
DTSTART:20241103T010000
TZOFFSETFROM:-0400
TZOFFSETTO:-0500
TZNAME:EST
END:STANDARD
END:VTIMEZONE
END:VCALENDAR