BEGIN:VCALENDAR
VERSION:2.0
PRODID:-//wp-events-plugin.com//7.2.3.1//EN
TZID:America/New_York
X-WR-TIMEZONE:America/New_York
BEGIN:VEVENT
UID:2586@fcsmaine.org
DTSTART;TZID=America/New_York:20260122T120000
DTEND;TZID=America/New_York:20260122T130000
DTSTAMP:20260113T154431Z
URL:https://fcsmaine.org/events/fraud-prevention-lunch-learn/
SUMMARY:Fraud Prevention Lunch & Learn
DESCRIPTION:Bath Savings presents an in-depth look at fraud\, and how to be
 st avoid common tricks and tactics. All are welcome to this free\, educati
 onal event on Thursday\, January 22 in the FCS Bradley Room. Lunch will be
  served to all who attend.\n\nTo ensure we have enough food for everyone\,
  please register using the form below. Thank you!\n\n[Form id="27"]
ATTACH;FMTTYPE=image/jpeg:https://fcsmaine.org/wp-content/uploads/2025/12/
 Fraud-Prevention-2026-1080-x-1350-px.png
CATEGORIES:Age-Friendly
LOCATION:Freeport Community Services\, The Bradley Room\, 53 Depot St.\, Fr
 eeport\, ME\, 04032\, United States
X-APPLE-STRUCTURED-LOCATION;VALUE=URI;X-ADDRESS=53 Depot St.\, Freeport\, M
 E\, 04032\, United States;X-APPLE-RADIUS=100;X-TITLE=Freeport Community Se
 rvices\, The Bradley Room:geo:0,0
END:VEVENT
BEGIN:VTIMEZONE
TZID:America/New_York
X-LIC-LOCATION:America/New_York
BEGIN:STANDARD
DTSTART:20251102T010000
TZOFFSETFROM:-0400
TZOFFSETTO:-0500
TZNAME:EST
END:STANDARD
END:VTIMEZONE
END:VCALENDAR