BEGIN:VCALENDAR
VERSION:2.0
PRODID:-//wp-events-plugin.com//7.2.3.1//EN
TZID:America/New_York
X-WR-TIMEZONE:America/New_York
BEGIN:VEVENT
UID:2567@fcsmaine.org
DTSTART;TZID=America/New_York:20251003T120000
DTEND;TZID=America/New_York:20251003T150000
DTSTAMP:20250929T170754Z
URL:https://fcsmaine.org/events/free-paint-your-own-oyster-shells-for-kids
 /
SUMMARY:Free: Decorate Your Own Oyster Shell Ornament
DESCRIPTION:As part of the Freeport Fall Festival weekend\, FCS will be off
 ering a free art activity at Town Hall on Friday\, October 3. Stop by our 
 booth from noon-3 p.m. and decorate oyster shell ornaments with us! These 
 make lovely keepsakes or gifts for friends and family.\n\nA big\, FCS than
 k you to our neighbors at Freeport Oyster Bar for donating the shells for 
 this project!
ATTACH;FMTTYPE=image/jpeg:https://fcsmaine.org/wp-content/uploads/2025/09/
 Fall-Fest-2025-Booth-Socials-Updated.png
CATEGORIES:Community Events
LOCATION:Freeport Town Hall\, 30 Main Street\, Freeport\, ME\, 04032\, Unit
 ed States
X-APPLE-STRUCTURED-LOCATION;VALUE=URI;X-ADDRESS=30 Main Street\, Freeport\,
  ME\, 04032\, United States;X-APPLE-RADIUS=100;X-TITLE=Freeport Town Hall:
 geo:0,0
END:VEVENT
BEGIN:VTIMEZONE
TZID:America/New_York
X-LIC-LOCATION:America/New_York
BEGIN:DAYLIGHT
DTSTART:20250309T030000
TZOFFSETFROM:-0500
TZOFFSETTO:-0400
TZNAME:EDT
END:DAYLIGHT
END:VTIMEZONE
END:VCALENDAR