BEGIN:VCALENDAR
VERSION:2.0
PRODID:-//wp-events-plugin.com//7.2.3.1//EN
TZID:America/New_York
X-WR-TIMEZONE:America/New_York
BEGIN:VEVENT
UID:2563@fcsmaine.org
DTSTART;TZID=America/New_York:20251009T190000
DTEND;TZID=America/New_York:20251009T200000
DTSTAMP:20250919T193424Z
URL:https://fcsmaine.org/events/freeport-folio-presents-open-mic-poetry/
SUMMARY:Freeport Folio Presents Open Mic Poetry
DESCRIPTION:\nFreeport Folio is back at FCS Thursday\, October 9 at 7 PM fo
 r an evening of poetry\, community\, and connection. We’re honored to we
 lcome Gary Lawless as our featured reader. Gary is the co-owner of Gulf of
  Maine Books in Brunswick\, the publisher of Blackberry Books\, and the au
 thor of 19 poetry collections in the U.S. (plus several abroad)! His newes
 t book\, How the Stones Came to Venice\, was published by Littoral Books i
 n Portland.\n\n\n\nOpen mic sign-ups are at the door. Students\, seasoned 
 poets\, first-timers\, or anyone who wants to listen and soak up the power
  of poetry are welcome! The event is free and open to the public but be su
 re to reserve your ticket on Eventbrite.\n\n\nFind more information at Fre
 eport Folio.\n
ATTACH;FMTTYPE=image/jpeg:https://fcsmaine.org/wp-content/uploads/2025/09/
 Poetry-Open-Mic-Oct-2025-pdf.jpg
CATEGORIES:Age-Friendly,Community Events
LOCATION:Freeport Community Services\, The Bradley Room\, 53 Depot St.\, Fr
 eeport\, ME\, 04032\, United States
X-APPLE-STRUCTURED-LOCATION;VALUE=URI;X-ADDRESS=53 Depot St.\, Freeport\, M
 E\, 04032\, United States;X-APPLE-RADIUS=100;X-TITLE=Freeport Community Se
 rvices\, The Bradley Room:geo:0,0
END:VEVENT
BEGIN:VTIMEZONE
TZID:America/New_York
X-LIC-LOCATION:America/New_York
BEGIN:DAYLIGHT
DTSTART:20250309T030000
TZOFFSETFROM:-0500
TZOFFSETTO:-0400
TZNAME:EDT
END:DAYLIGHT
END:VTIMEZONE
END:VCALENDAR