BEGIN:VCALENDAR
VERSION:2.0
PRODID:-//wp-events-plugin.com//7.2.3.1//EN
TZID:America/New_York
X-WR-TIMEZONE:America/New_York
BEGIN:VEVENT
UID:2153@fcsmaine.org
DTSTART;TZID=America/New_York:20261204T120000
DTEND;TZID=America/New_York:20261204T130000
DTSTAMP:20250725T155421Z
URL:https://fcsmaine.org/events/friday-community-lunch-2025-01-03-2025-02-
 07-2025-03-07-2025-04-04-2025-05-02-2025-06-06-2025-07-04-2025-08-01-2025-
 09-05-2025-10-03-2025-11-07-2025-12-05-2026-01-02-2026-02-06-2026-03-0-06-
 2026-12-04/
SUMMARY:Friday Community Lunch
DESCRIPTION:Community Free Lunch Fridays: All Are Welcome\n\n\n\n\n\n\n\nEv
 ery first and third Friday of the month\, volunteer chefs prepare lunch fo
 r everyone in the community to enjoy. The meals are free\, and they are de
 licious! Join us at noon in the Bradley Room.\n\nPlease check the calendar
  for updates.\n\n\n\n\n\n\n
ATTACH;FMTTYPE=image/jpeg:https://fcsmaine.org/wp-content/uploads/2025/06/
 Community-Lunch-flyer-Instagram-Post-45.png
CATEGORIES:FCS Event
LOCATION:Freeport Community Services\, 53 Depot St.\, Freeport\, ME\, 04032
 \, United States
X-APPLE-STRUCTURED-LOCATION;VALUE=URI;X-ADDRESS=53 Depot St.\, Freeport\, M
 E\, 04032\, United States;X-APPLE-RADIUS=100;X-TITLE=Freeport Community Se
 rvices:geo:0,0
END:VEVENT
BEGIN:VTIMEZONE
TZID:America/New_York
X-LIC-LOCATION:America/New_York
BEGIN:STANDARD
DTSTART:20261101T010000
TZOFFSETFROM:-0400
TZOFFSETTO:-0500
TZNAME:EST
END:STANDARD
END:VTIMEZONE
END:VCALENDAR