BEGIN:VCALENDAR
VERSION:2.0
PRODID:-//wp-events-plugin.com//7.2.3.1//EN
TZID:America/New_York
X-WR-TIMEZONE:America/New_York
BEGIN:VEVENT
UID:2580@fcsmaine.org
DTSTART;TZID=America/New_York:20251120T160000
DTEND;TZID=America/New_York:20251120T170000
DTSTAMP:20251119T191816Z
URL:https://fcsmaine.org/events/greater-freeport-area-safety-net-zoom-meet
 ing/
SUMMARY:Greater Freeport Area Safety Net Zoom Meeting
DESCRIPTION:Join Freeport Community Services\, the Town of Freeport\, and o
 ur community partners for an important Zoom conversation on local resource
 s and how we can best support our neighbors together. All are welcome to j
 oin us!\n\nTo connect\, use the Zoom link here.\n\nNote: This community co
 nversation will be recorded. If you're unable to join FCS and the Town of 
 Freeport will share the recording.
ATTACH;FMTTYPE=image/jpeg:https://fcsmaine.org/wp-content/uploads/2025/11/
 Greater-Freeport-Area-Safety-Net-UPDATED-ZOOM-link-FLYER.png
CATEGORIES:Community Events
LOCATION:https://us02web.zoom.us/j/89686469440?pwd=xL87g5DHbnGkAlJGNcfW9Oaz
 PebX9P.1
END:VEVENT
BEGIN:VTIMEZONE
TZID:America/New_York
X-LIC-LOCATION:America/New_York
BEGIN:STANDARD
DTSTART:20251102T010000
TZOFFSETFROM:-0400
TZOFFSETTO:-0500
TZNAME:EST
END:STANDARD
END:VTIMEZONE
END:VCALENDAR