BEGIN:VCALENDAR
VERSION:2.0
PRODID:-//wp-events-plugin.com//7.2.3.1//EN
TZID:America/New_York
X-WR-TIMEZONE:America/New_York
BEGIN:VEVENT
UID:2566@fcsmaine.org
DTSTART;TZID=America/New_York:20251016T173000
DTEND;TZID=America/New_York:20251016T190000
DTSTAMP:20250924T143502Z
URL:https://fcsmaine.org/events/green-living-fair-october-16/
SUMMARY:Green Living Fair October 16
DESCRIPTION:We're excited to host our first annual Green Living Fair on Thu
 rsday\, October 16 from 5:30-7:00 p.m. This FREE event is designed to prov
 ide tips and tricks for living sustainably. Enjoy special food tastings\, 
 gardening tips and even a take home guide for greener living. Special gues
 ts include:\n\n 	Bessie's Farm Goods\n 	Freeport Climate Action\n 	Repleno
 va Farm\n 	Tripping Gnome Farm\n 	University of Maine Cooperative Extensio
 n\n 	Chris Toy Upcycled Designs\n\nThe Thrift Shop at FCS will also be ope
 n for evening shopping. If you're interested\, any clothes you purchase at
  the shop can be upcycled with iron-on patches or bring your own pieces to
  embellish.\n\nWe hope you'll join us for this fun\, free event!\n\n&nbsp\
 ;
ATTACH;FMTTYPE=image/jpeg:https://fcsmaine.org/wp-content/uploads/2025/09/
 Green-Living-Fair-2025-Flyer-Updatedv2.png
CATEGORIES:Community Events
LOCATION:Freeport Community Services\, The Bradley Room\, 53 Depot St.\, Fr
 eeport\, ME\, 04032\, United States
X-APPLE-STRUCTURED-LOCATION;VALUE=URI;X-ADDRESS=53 Depot St.\, Freeport\, M
 E\, 04032\, United States;X-APPLE-RADIUS=100;X-TITLE=Freeport Community Se
 rvices\, The Bradley Room:geo:0,0
END:VEVENT
BEGIN:VTIMEZONE
TZID:America/New_York
X-LIC-LOCATION:America/New_York
BEGIN:DAYLIGHT
DTSTART:20250309T030000
TZOFFSETFROM:-0500
TZOFFSETTO:-0400
TZNAME:EDT
END:DAYLIGHT
END:VTIMEZONE
END:VCALENDAR