BEGIN:VCALENDAR
VERSION:2.0
PRODID:-//wp-events-plugin.com//7.2.3.1//EN
TZID:America/New_York
X-WR-TIMEZONE:America/New_York
BEGIN:VEVENT
UID:2437@fcsmaine.org
DTSTART;TZID=America/New_York:20250826T130000
DTEND;TZID=America/New_York:20250826T140000
DTSTAMP:20250821T181413Z
URL:https://fcsmaine.org/events/ice-cream-social/
SUMMARY:Ice Cream Social
DESCRIPTION:Join us in the FCS courtyard (weather permitting) to celebrate 
 the end of summer with FREE ice cream from local favorite Mainely Custard.
  Friends from our weekly ukelele jam band will treat us all to live music.
ATTACH;FMTTYPE=image/jpeg:https://fcsmaine.org/wp-content/uploads/2025/08/
 AFFP-Ice-Cream-Socials-updated.png
CATEGORIES:Age-Friendly
LOCATION:Courtyard\, Freeport Community Services\, 53 Depot Street\, Freepo
 rt\, Maine\, 04032\, United States
X-APPLE-STRUCTURED-LOCATION;VALUE=URI;X-ADDRESS=53 Depot Street\, Freeport\
 , Maine\, 04032\, United States;X-APPLE-RADIUS=100;X-TITLE=Courtyard\, Fre
 eport Community Services:geo:0,0
END:VEVENT
BEGIN:VTIMEZONE
TZID:America/New_York
X-LIC-LOCATION:America/New_York
BEGIN:DAYLIGHT
DTSTART:20250309T030000
TZOFFSETFROM:-0500
TZOFFSETTO:-0400
TZNAME:EDT
END:DAYLIGHT
END:VTIMEZONE
END:VCALENDAR