BEGIN:VCALENDAR
VERSION:2.0
PRODID:-//wp-events-plugin.com//7.2.3.1//EN
TZID:America/New_York
X-WR-TIMEZONE:America/New_York
BEGIN:VEVENT
UID:2438@fcsmaine.org
DTSTART;TZID=America/New_York;VALUE=DATE:20250901
DTEND;TZID=America/New_York;VALUE=DATE:20250902
DTSTAMP:20250825T173448Z
URL:https://fcsmaine.org/events/labor-day-closure/
SUMMARY:Labor Day Closure
DESCRIPTION:The Thrift Shop\, Food Pantry and FCS will be closed and all ac
 tivities canceled for Labor Day.
ATTACH;FMTTYPE=image/jpeg:https://fcsmaine.org/wp-content/uploads/2025/08/
 Labor-Day-closure-Updated-Social-Post.png
CATEGORIES:Age-Friendly,Food Pantry
LOCATION:Freeport Community Services\, The Bradley Room\, 53 Depot St.\, Fr
 eeport\, ME\, 04032\, United States
X-APPLE-STRUCTURED-LOCATION;VALUE=URI;X-ADDRESS=53 Depot St.\, Freeport\, M
 E\, 04032\, United States;X-APPLE-RADIUS=100;X-TITLE=Freeport Community Se
 rvices\, The Bradley Room:geo:0,0
END:VEVENT
BEGIN:VTIMEZONE
TZID:America/New_York
X-LIC-LOCATION:America/New_York
BEGIN:DAYLIGHT
DTSTART:20250309T030000
TZOFFSETFROM:-0500
TZOFFSETTO:-0400
TZNAME:EDT
END:DAYLIGHT
END:VTIMEZONE
END:VCALENDAR