BEGIN:VCALENDAR
VERSION:2.0
PRODID:-//wp-events-plugin.com//7.2.3.1//EN
TZID:America/New_York
X-WR-TIMEZONE:America/New_York
BEGIN:VEVENT
UID:2562@fcsmaine.org
DTSTART;TZID=America/New_York:20251007T170000
DTEND;TZID=America/New_York:20251007T180000
DTSTAMP:20250918T145956Z
URL:https://fcsmaine.org/events/maine-alzheimers-association-presentation-
 for-caregivers/
SUMMARY:Maine Alzheimer’s Association Presentation for Caregivers
DESCRIPTION:\n\n\n\n\nIf you’re in search of Alzheimer’s resources and 
 services for a friend or family member\, join us for this FREE community p
 resentation given by the Maine Alzheimer’s Association. Snacks and drin
 ks will be served. 5 p.m. in the Bradley Room.\n\n\n\n\n
ATTACH;FMTTYPE=image/jpeg:https://fcsmaine.org/wp-content/uploads/2025/09/
 Flu-Vaccine-Flyer-9262025-Social-Post.png
LOCATION:Freeport Community Services\, 53 Depot St.\, Freeport\, ME\, 04032
 \, United States
X-APPLE-STRUCTURED-LOCATION;VALUE=URI;X-ADDRESS=53 Depot St.\, Freeport\, M
 E\, 04032\, United States;X-APPLE-RADIUS=100;X-TITLE=Freeport Community Se
 rvices:geo:0,0
END:VEVENT
BEGIN:VTIMEZONE
TZID:America/New_York
X-LIC-LOCATION:America/New_York
BEGIN:DAYLIGHT
DTSTART:20250309T030000
TZOFFSETFROM:-0500
TZOFFSETTO:-0400
TZNAME:EDT
END:DAYLIGHT
END:VTIMEZONE
END:VCALENDAR