BEGIN:VCALENDAR
VERSION:2.0
PRODID:-//wp-events-plugin.com//7.2.3.1//EN
TZID:America/New_York
X-WR-TIMEZONE:America/New_York
BEGIN:VEVENT
UID:2576@fcsmaine.org
DTSTART;TZID=America/New_York:20251113T103000
DTEND;TZID=America/New_York:20251113T113000
DTSTAMP:20251028T190341Z
URL:https://fcsmaine.org/events/maine-alzheimers-association-support-group
 -for-caregivers/
SUMMARY:Maine Alzheimer's Association Support Group for Caregivers
DESCRIPTION:Join the Freeport Maine Alzheimer’s Association Support Group
 . Designed for caregivers\, meetings begin Thursday\, November 13 from 10:
 30-11:30 a.m. at Freeport Community Center lower floor conference room.\n\
 nSupport groups create a safe\, confidential\, welcoming community and a c
 hance for participants to develop informal\, mutual support and social rel
 ationships. Participants learn more about dementia while also developing m
 ethods and skills to solve problems. This caregiver support group is open 
 to anyone who has a loved one with Alzheimer’s disease or another type o
 f dementia.\n\nTo register\, call 24/7 Helpline 800-272-3900\, or scan th
 e QR code above. 
ATTACH;FMTTYPE=image/jpeg:https://fcsmaine.org/wp-content/uploads/2025/10/
 Freeport-Support-Group-Maine-Alzheimers-Association-Flyer-.png
CATEGORIES:Age-Friendly
LOCATION:Freeport Community Services\, 53 Depot St.\, Freeport\, ME\, 04032
 \, United States
X-APPLE-STRUCTURED-LOCATION;VALUE=URI;X-ADDRESS=53 Depot St.\, Freeport\, M
 E\, 04032\, United States;X-APPLE-RADIUS=100;X-TITLE=Freeport Community Se
 rvices:geo:0,0
END:VEVENT
BEGIN:VTIMEZONE
TZID:America/New_York
X-LIC-LOCATION:America/New_York
BEGIN:STANDARD
DTSTART:20251102T010000
TZOFFSETFROM:-0400
TZOFFSETTO:-0500
TZNAME:EST
END:STANDARD
END:VTIMEZONE
END:VCALENDAR