BEGIN:VCALENDAR
VERSION:2.0
PRODID:-//wp-events-plugin.com//7.2.3.1//EN
TZID:America/New_York
X-WR-TIMEZONE:America/New_York
BEGIN:VEVENT
UID:2886@fcsmaine.org
DTSTART;TZID=America/New_York:20260317T130000
DTEND;TZID=America/New_York:20260317T140000
DTSTAMP:20260316T182823Z
URL:https://fcsmaine.org/events/maine-public-safety-pipe-drum-corps-play-l
 ive/
SUMMARY:Maine Public Safety Pipe & Drum Corps Play Live
DESCRIPTION:Join us in the Bradley Room on St. Patrick’s Day and listen t
 o festive tunes from the Maine Public Safety Pipe &amp\; Drum Corps play. 
 See you for the fun at 1:00 p.m.\n\nThis Age-Friendly Freeport and Pownal 
 event is free and open to all.
ATTACH;FMTTYPE=image/jpeg:https://fcsmaine.org/wp-content/uploads/2026/03/
 St.-Pats-Music-Flyer-March-17-2026-1.png
CATEGORIES:Age-Friendly
LOCATION:Freeport Community Services\, The Bradley Room\, 53 Depot St.\, Fr
 eeport\, ME\, 04032\, United States
X-APPLE-STRUCTURED-LOCATION;VALUE=URI;X-ADDRESS=53 Depot St.\, Freeport\, M
 E\, 04032\, United States;X-APPLE-RADIUS=100;X-TITLE=Freeport Community Se
 rvices\, The Bradley Room:geo:0,0
END:VEVENT
BEGIN:VTIMEZONE
TZID:America/New_York
X-LIC-LOCATION:America/New_York
BEGIN:DAYLIGHT
DTSTART:20260308T030000
TZOFFSETFROM:-0500
TZOFFSETTO:-0400
TZNAME:EDT
END:DAYLIGHT
END:VTIMEZONE
END:VCALENDAR