BEGIN:VCALENDAR
VERSION:2.0
PRODID:-//wp-events-plugin.com//7.2.3.1//EN
TZID:America/New_York
X-WR-TIMEZONE:America/New_York
BEGIN:VEVENT
UID:1107@fcsmaine.org
DTSTART;TZID=America/New_York:20300107T100000
DTEND;TZID=America/New_York:20300107T110000
DTSTAMP:20260226T173842Z
URL:https://fcsmaine.org/events/monday-yoga-2030-01-07/
SUMMARY:Monday Yoga
DESCRIPTION:Free Yoga Every Monday\n\n\n\n\n\n\n\nJoin us for this free cla
 ss to improve and maintain your mobility\, flexibility\, balance\, and str
 ength through sustainable yoga practice. All levels and abilities will be 
 accommodated\, including use of chairs and props.\n\nUsing the breath and 
 slow transitions and holds through various physical postures can increase 
 our awareness of our mind and body to help us feel relaxed\, centered\, an
 d calm.\n\nThe class is led by instructor Marni Prince.\n\nClass takes pl
 ace every Monday at 10am in the Bradley Room\, unless otherwise posted. No
  registration required.\n\nPlease check the calendar for schedule update
 s.\n\n\n\n\n\n\n
ATTACH;FMTTYPE=image/jpeg:https://fcsmaine.org/wp-content/uploads/2025/07/
 AFFP-Yoga-flyer-Updated-2026-1.png
CATEGORIES:Age-Friendly
LOCATION:Freeport Community Services\, 53 Depot St.\, Freeport\, ME\, 04032
 \, United States
X-APPLE-STRUCTURED-LOCATION;VALUE=URI;X-ADDRESS=53 Depot St.\, Freeport\, M
 E\, 04032\, United States;X-APPLE-RADIUS=100;X-TITLE=Freeport Community Se
 rvices:geo:0,0
END:VEVENT
BEGIN:VTIMEZONE
TZID:America/New_York
X-LIC-LOCATION:America/New_York
BEGIN:STANDARD
DTSTART:20291104T010000
TZOFFSETFROM:-0400
TZOFFSETTO:-0500
TZNAME:EST
END:STANDARD
END:VTIMEZONE
END:VCALENDAR