BEGIN:VCALENDAR
VERSION:2.0
PRODID:-//wp-events-plugin.com//7.2.3.1//EN
TZID:America/New_York
X-WR-TIMEZONE:America/New_York
BEGIN:VEVENT
UID:2589@fcsmaine.org
DTSTART;TZID=America/New_York:20260216T090000
DTEND;TZID=America/New_York:20260216T170000
DTSTAMP:20260211T200331Z
URL:https://fcsmaine.org/events/presidents-day/
SUMMARY:President's Day
DESCRIPTION:Freeport Community Center\, the Thrift Shop\, and the Food Pant
 ry will be closed for the President's Day holiday.
ATTACH;FMTTYPE=image/jpeg:https://fcsmaine.org/wp-content/uploads/2026/02/
 Presidents-Day-Closures-2026-Flyer.png
CATEGORIES:Holiday
LOCATION:Freeport Community Services\, 53 Depot St.\, Freeport\, ME\, 04032
 \, United States
X-APPLE-STRUCTURED-LOCATION;VALUE=URI;X-ADDRESS=53 Depot St.\, Freeport\, M
 E\, 04032\, United States;X-APPLE-RADIUS=100;X-TITLE=Freeport Community Se
 rvices:geo:0,0
END:VEVENT
BEGIN:VTIMEZONE
TZID:America/New_York
X-LIC-LOCATION:America/New_York
BEGIN:STANDARD
DTSTART:20251102T010000
TZOFFSETFROM:-0400
TZOFFSETTO:-0500
TZNAME:EST
END:STANDARD
END:VTIMEZONE
END:VCALENDAR