BEGIN:VCALENDAR
VERSION:2.0
PRODID:-//wp-events-plugin.com//7.2.3.1//EN
TZID:America/New_York
X-WR-TIMEZONE:America/New_York
BEGIN:VEVENT
UID:2314@fcsmaine.org
DTSTART;TZID=America/New_York:20250723T173000
DTEND;TZID=America/New_York:20250723T193000
DTSTAMP:20250725T161755Z
URL:https://fcsmaine.org/events/sip-shop-event/
SUMMARY:Sip & Shop Event
DESCRIPTION:Sip &amp\; Shop Event July 23 at 5:30pm\n\n\n\n\n\n\n\nCome for
  a special event at FCS! Eight local breweries will be pouring beer\, and 
 the Thrift Shop will be open for your shopping pleasure.\n\nThe Thrift Sho
 p has handpicked new arrivals to be sold throughout the night\, as well as
  a curated corner of beer related pieces for the fans in attendance. It’
 s the perfect mix of brews\, bargains\, and good vibes. Don’t miss this 
 chance to support local businesses\, discover one-of-a-kind finds\, and me
 et new friends over a brew! Complimentary non-alcoholic refreshments and s
 nacks will be provided.\n\nWednesday\, July 23\, at Freeport Community Cen
 ter\, 53 Depot St\, Freeport. 5:30-7pm.\n\nFree childcare is available! Pl
 ease register in advance below if you will be bringing a kiddo for us to e
 ntertain while you take a break.\n\nBreweries coming to pour at the event
  are: Maine Beer Company\, Brickyard Hollow Brewing Company\, Geary Brewi
 ng Co\, 1820 Brewing Company\, Belfast Bay Brewing Company\, Mast Landing 
 Brewing Company\, Olive Pit Brewing\, and Well &amp\; Good Brewing Company
 .\n\nThis event will have a pay-what-you-can admission charge\, in order t
 o comply with event regulations.\n\nReach out to Tina with any questions (
 207) 865-3985 ext. 221 or by email.\n\n\n[Form id="63"]\n\n\n\n\n\n
ATTACH;FMTTYPE=image/jpeg:https://fcsmaine.org/wp-content/uploads/2025/07/
 Sip-Shop.png
CATEGORIES:FCS Event
LOCATION:Freeport Community Services\, The Bradley Room\, 53 Depot St.\, Fr
 eeport\, ME\, 04032\, United States
X-APPLE-STRUCTURED-LOCATION;VALUE=URI;X-ADDRESS=53 Depot St.\, Freeport\, M
 E\, 04032\, United States;X-APPLE-RADIUS=100;X-TITLE=Freeport Community Se
 rvices\, The Bradley Room:geo:0,0
END:VEVENT
BEGIN:VTIMEZONE
TZID:America/New_York
X-LIC-LOCATION:America/New_York
BEGIN:DAYLIGHT
DTSTART:20250309T030000
TZOFFSETFROM:-0500
TZOFFSETTO:-0400
TZNAME:EDT
END:DAYLIGHT
END:VTIMEZONE
END:VCALENDAR