BEGIN:VCALENDAR
VERSION:2.0
PRODID:-//wp-events-plugin.com//7.2.3.1//EN
TZID:America/New_York
X-WR-TIMEZONE:America/New_York
BEGIN:VEVENT
UID:2810@fcsmaine.org
DTSTART;TZID=America/New_York:20280718T100000
DTEND;TZID=America/New_York:20280718T110000
DTSTAMP:20260305T190519Z
URL:https://fcsmaine.org/events/strength-stretch-class-for-older-adults-20
 25-01-07-2025-01-14-2025-01-21-2025-01-28-2025-02-04-2025-02-11-2025-02-18
 -2025-02-25-2025-03-04-2025-03-11-2025-03-18-2025-03-25-2025-04-01-202-11-
 2028-07-18/
SUMMARY:Strength & Stretch Class for Older Adults
DESCRIPTION:\n\n\n\n\n\n\nJoin us every Tuesday at 10am in the Bradley Room
  for an adaptive strength-building and mobility class for older adults usi
 ng gentle weights. The teacher is Heather Zachau of Zachau Wellness.\n\nTh
 is popular class is free and always open to new attendees. Drop in and giv
 e it a try!\n\n\n\n\n\n\n
ATTACH;FMTTYPE=image/jpeg:https://fcsmaine.org/wp-content/uploads/2025/07/
 feb-2026-strength-and-stretch-socials.png
CATEGORIES:Age-Friendly
LOCATION:Freeport Community Services\, 53 Depot St.\, Freeport\, ME\, 04032
 \, United States
X-APPLE-STRUCTURED-LOCATION;VALUE=URI;X-ADDRESS=53 Depot St.\, Freeport\, M
 E\, 04032\, United States;X-APPLE-RADIUS=100;X-TITLE=Freeport Community Se
 rvices:geo:0,0
END:VEVENT
BEGIN:VTIMEZONE
TZID:America/New_York
X-LIC-LOCATION:America/New_York
BEGIN:DAYLIGHT
DTSTART:20280312T030000
TZOFFSETFROM:-0500
TZOFFSETTO:-0400
TZNAME:EDT
END:DAYLIGHT
END:VTIMEZONE
END:VCALENDAR