BEGIN:VCALENDAR
VERSION:2.0
PRODID:-//wp-events-plugin.com//7.2.3.1//EN
TZID:America/New_York
X-WR-TIMEZONE:America/New_York
BEGIN:VEVENT
UID:2313@fcsmaine.org
DTSTART;TZID=America/New_York:20250731T100000
DTEND;TZID=America/New_York:20250731T110000
DTSTAMP:20250725T161309Z
URL:https://fcsmaine.org/events/summer-safety-workshop/
SUMMARY:Summer Safety Workshop
DESCRIPTION:Summer Safety Workshop July 31\n\n\n\n\n\n\n\nHear from experts
  about how to stay safe in the summer\, from avoiding ticks to what to do 
 when it starts heating up.\n\nThe Freeport Fire Department and Adina Berko
 witz\, MPH\, and Executive Director of LymeTV will be speaking and answeri
 ng your questions.\n\nThursday\, July 31\, 10am\, in the Bradley Room at F
 reeport Community Center.\n\nNo registration is required\, free and open t
 o all.\n\n\n\n\n\n\n
ATTACH;FMTTYPE=image/jpeg:https://fcsmaine.org/wp-content/uploads/2025/07/
 Stay-Safe.png
CATEGORIES:Age-Friendly
LOCATION:Freeport Community Services\, 53 Depot St.\, Freeport\, ME\, 04032
 \, United States
X-APPLE-STRUCTURED-LOCATION;VALUE=URI;X-ADDRESS=53 Depot St.\, Freeport\, M
 E\, 04032\, United States;X-APPLE-RADIUS=100;X-TITLE=Freeport Community Se
 rvices:geo:0,0
END:VEVENT
BEGIN:VTIMEZONE
TZID:America/New_York
X-LIC-LOCATION:America/New_York
BEGIN:DAYLIGHT
DTSTART:20250309T030000
TZOFFSETFROM:-0500
TZOFFSETTO:-0400
TZNAME:EDT
END:DAYLIGHT
END:VTIMEZONE
END:VCALENDAR