BEGIN:VCALENDAR
VERSION:2.0
PRODID:-//wp-events-plugin.com//7.2.3.1//EN
TZID:America/New_York
X-WR-TIMEZONE:America/New_York
BEGIN:VEVENT
UID:2081@fcsmaine.org
DTSTART;TZID=America/New_York:20260219T100000
DTEND;TZID=America/New_York:20260219T130000
DTSTAMP:20260303T190732Z
URL:https://fcsmaine.org/events/thrifty-3rd-thursday-2026-02-19/
SUMMARY:Thrifty 3rd Thursday
DESCRIPTION:Thrift Shop $3 Thrifty Thursday\n\n\n\n\n\n\n\nThe Thrift Shop 
 hosts $3 Thrifty Third Thursdays each month. Join us for great deals on ov
 erstock items. We will take over the Bradley Room 10am to 1pm.\n\n\n\n\n\n
 \n
ATTACH;FMTTYPE=image/jpeg:https://fcsmaine.org/wp-content/uploads/2025/07/
 3rd-Thu-Web-gen.png
CATEGORIES:FCS Event
LOCATION:Freeport Community Services\, 53 Depot St.\, Freeport\, ME\, 04032
 \, United States
X-APPLE-STRUCTURED-LOCATION;VALUE=URI;X-ADDRESS=53 Depot St.\, Freeport\, M
 E\, 04032\, United States;X-APPLE-RADIUS=100;X-TITLE=Freeport Community Se
 rvices:geo:0,0
END:VEVENT
BEGIN:VTIMEZONE
TZID:America/New_York
X-LIC-LOCATION:America/New_York
BEGIN:STANDARD
DTSTART:20251102T010000
TZOFFSETFROM:-0400
TZOFFSETTO:-0500
TZNAME:EST
END:STANDARD
END:VTIMEZONE
END:VCALENDAR