BEGIN:VCALENDAR
VERSION:2.0
PRODID:-//wp-events-plugin.com//7.2.3.1//EN
TZID:America/New_York
X-WR-TIMEZONE:America/New_York
BEGIN:VEVENT
UID:1772@fcsmaine.org
DTSTART;TZID=America/New_York:20270913T150000
DTEND;TZID=America/New_York:20270913T160000
DTSTAMP:20260226T181443Z
URL:https://fcsmaine.org/events/weekly-ukulele-jam-2027-09-13/
SUMMARY:Weekly Ukulele Jam
DESCRIPTION:Join Our Age-Friendly Ukulele Jam\n\n\n\n\n\n\nJoin local Ukest
 er Bonnie Walstrom in the Bradley Room at Freeport Community Services. Des
 igned for advanced beginners and above. BYO ukelele.\n Contact Marie with
  questions at (207) 865-3985 x222.\n\n\n\n\n\n\n
ATTACH;FMTTYPE=image/jpeg:https://fcsmaine.org/wp-content/uploads/2025/07/
 Ukulele-Jam-flyer-updated-2026.png
CATEGORIES:Age-Friendly
LOCATION:Freeport Community Services\, 53 Depot St.\, Freeport\, ME\, 04032
 \, United States
X-APPLE-STRUCTURED-LOCATION;VALUE=URI;X-ADDRESS=53 Depot St.\, Freeport\, M
 E\, 04032\, United States;X-APPLE-RADIUS=100;X-TITLE=Freeport Community Se
 rvices:geo:0,0
END:VEVENT
BEGIN:VTIMEZONE
TZID:America/New_York
X-LIC-LOCATION:America/New_York
BEGIN:DAYLIGHT
DTSTART:20270314T030000
TZOFFSETFROM:-0500
TZOFFSETTO:-0400
TZNAME:EDT
END:DAYLIGHT
END:VTIMEZONE
END:VCALENDAR